BEGIN:VCALENDAR
VERSION:2.0
PRODID:-//DP Pro Event Calendar//3.0.5//EN
BEGIN:VEVENT
UID:246ce31a-a820-443f-980e-c060b6e3a1b0
DTSTART;TZID=America/Chicago:20220212T124500
DTEND;TZID=America/Chicago:20220212T141500
DTSTAMP:20220207T125458Z
SUMMARY:Bauer Driscol Birthday
DESCRIPTION:Basic Party\r \n Party Room 11:$5-12:45p
LOCATION:
URL:
END:VEVENT
END:VCALENDAR