BEGIN:VCALENDAR
VERSION:2.0
PRODID:-//DP Pro Event Calendar//3.0.5//EN
BEGIN:VEVENT
UID:0d2fd58d-36ed-4ac0-bcf0-2afe0df17b09
DTSTART;TZID=America/Chicago:20220117T183000
DTEND;TZID=America/Chicago:20220117T200000
DTSTAMP:20220103T124232Z
SUMMARY:Ski Patrol - Party Room
DESCRIPTION:
LOCATION:
URL:
END:VEVENT
END:VCALENDAR