BEGIN:VCALENDAR
VERSION:2.0
PRODID:-//DP Pro Event Calendar//3.0.5//EN
BEGIN:VEVENT
UID:31de93b8-8628-497c-a178-6ba0ca925ced
DTSTART;TZID=America/Chicago:20220109T180000
DTEND;TZID=America/Chicago:20220109T200000
DTSTAMP:20211214T132054Z
SUMMARY:Morgaues Company Outing
DESCRIPTION:Open Skating\r \n $750 Balance Due
LOCATION:
URL:
END:VEVENT
END:VCALENDAR