BEGIN:VCALENDAR
VERSION:2.0
PRODID:-//DP Pro Event Calendar//3.0.5//EN
BEGIN:VEVENT
UID:7726989c-25a2-4928-992d-d59d26855401
DTSTART;TZID=America/Chicago:20211223T174500
DTEND;TZID=America/Chicago:20211223T200000
DTSTAMP:20211208T133709Z
SUMMARY:12U Lights Out Practice/Party
DESCRIPTION:Practice 5:45pm\r \n Party 7pm
LOCATION:
URL:
END:VEVENT
END:VCALENDAR