BEGIN:VCALENDAR
VERSION:2.0
PRODID:-//DP Pro Event Calendar//3.0.5//EN
BEGIN:VEVENT
UID:7fa65233-df9a-4356-b4f6-f41bf63fd74a
DTSTART;TZID=America/Chicago:20211219T174500
DTEND;TZID=America/Chicago:20211219T184500
DTSTAMP:20211208T114323Z
SUMMARY:Orris Private Skate
DESCRIPTION:
LOCATION:
URL:
END:VEVENT
END:VCALENDAR