BEGIN:VCALENDAR
VERSION:2.0
PRODID:-//DP Pro Event Calendar//3.0.5//EN
BEGIN:VEVENT
UID:bda6b375-db74-444a-b629-c753d036c36c
DTSTART;TZID=America/Chicago:20211016T143000
DTEND;TZID=America/Chicago:20211016T153000
DTSTAMP:20211012T155657Z
SUMMARY:OHC Squirt Black v. Opponent
DESCRIPTION:
LOCATION:
URL:
END:VEVENT
END:VCALENDAR