BEGIN:VCALENDAR
VERSION:2.0
PRODID:-//DP Pro Event Calendar//3.0.5//EN
BEGIN:VEVENT
UID:85623d77-f1d8-4de0-9b7d-808c5c1f572b
DTSTART;TZID=America/Chicago:20210925T143000
DTEND;TZID=America/Chicago:20210925T214500
DTSTAMP:20210521T114344Z
SUMMARY:Stars Hockey Tournament
DESCRIPTION:
LOCATION:
URL:
END:VEVENT
END:VCALENDAR