BEGIN:VCALENDAR
VERSION:2.0
PRODID:-//DP Pro Event Calendar//3.0.5//EN
BEGIN:VEVENT
UID:e331eae0-2222-4fd0-a1d4-605fbe857b1a
DTSTART;TZID=America/Chicago:20210814T161500
DTEND;TZID=America/Chicago:20210814T183000
DTSTAMP:20210727T173322Z
SUMMARY:Taco Mania
DESCRIPTION:Boards for Matt
LOCATION:
URL:
END:VEVENT
END:VCALENDAR