BEGIN:VCALENDAR
VERSION:2.0
PRODID:-//DP Pro Event Calendar//3.0.5//EN
BEGIN:VEVENT
UID:0e6cd9e2-1459-48cd-bceb-c59d78639243
DTSTART;TZID=America/Chicago:20210801T124500
DTEND;TZID=America/Chicago:20210801T134500
DTSTAMP:20210714T100517Z
SUMMARY:Trailblazers 09 Conn
DESCRIPTION:
LOCATION:
URL:
END:VEVENT
END:VCALENDAR