BEGIN:VCALENDAR
VERSION:2.0
PRODID:-//DP Pro Event Calendar//3.0.5//EN
BEGIN:VEVENT
UID:ea55adbb-b950-479f-86a0-f30c17d26e97
DTSTART;TZID=America/Chicago:20210731T124500
DTEND;TZID=America/Chicago:20210731T141500
DTSTAMP:20210727T132210Z
SUMMARY:Alyanna Storrs Birthday
DESCRIPTION:Basic Party\r \n Locker Room 4 - 2:15-3:15p
LOCATION:
URL:
END:VEVENT
END:VCALENDAR