BEGIN:VCALENDAR
VERSION:2.0
PRODID:-//DP Pro Event Calendar//3.0.5//EN
BEGIN:VEVENT
UID:b424289d-7a73-4064-9a70-a8db91d64643
DTSTART;TZID=America/Chicago:20210731T124500
DTEND;TZID=America/Chicago:20210731T141500
DTSTAMP:20210716T110441Z
SUMMARY:Sebastian Nelson Birthday
DESCRIPTION:Basic Party\r \n Party Room 1:30-2:30p
LOCATION:
URL:
END:VEVENT
END:VCALENDAR