BEGIN:VCALENDAR
VERSION:2.0
PRODID:-//DP Pro Event Calendar//3.0.5//EN
BEGIN:VEVENT
UID:7e37cafb-431d-468d-b93b-005e4db6dd1c
DTSTART;TZID=America/Chicago:20210731T113000
DTEND;TZID=America/Chicago:20210731T123000
DTSTAMP:20210521T120705Z
SUMMARY:Boy Scouts Broomball Event
DESCRIPTION:
LOCATION:
URL:
END:VEVENT
END:VCALENDAR