BEGIN:VCALENDAR
VERSION:2.0
PRODID:-//DP Pro Event Calendar//3.0.5//EN
BEGIN:VEVENT
UID:ae2d7aaa-7db8-4a10-818c-4f96da935d96
DTSTART;TZID=America/Chicago:20210730T194500
DTEND;TZID=America/Chicago:20210730T211500
DTSTAMP:20210716T105337Z
SUMMARY:Megan's Skate
DESCRIPTION:
LOCATION:
URL:
END:VEVENT
END:VCALENDAR