BEGIN:VCALENDAR
VERSION:2.0
PRODID:-//DP Pro Event Calendar//3.0.5//EN
BEGIN:VEVENT
UID:4435871d-4195-467f-8d0d-0adf98aeb873
DTSTART;TZID=America/Chicago:20210523T170000
DTEND;TZID=America/Chicago:20210523T180000
DTSTAMP:20210521T114511Z
SUMMARY:Drop in Broomball
DESCRIPTION:
LOCATION:
URL:
END:VEVENT
END:VCALENDAR