BEGIN:VCALENDAR
VERSION:2.0
PRODID:-//DP Pro Event Calendar//3.0.5//EN
BEGIN:VEVENT
UID:d2c96fe8-1354-44f5-b42a-932e25049742
DTSTART;TZID=America/Chicago:20210220T143000
DTEND;TZID=America/Chicago:20210220T164500
DTSTAMP:20210112T133752Z
SUMMARY:09 Bugeaters Tryouts
DESCRIPTION:
LOCATION:
URL:
END:VEVENT
END:VCALENDAR