BEGIN:VCALENDAR
VERSION:2.0
PRODID:-//DP Pro Event Calendar//3.0.5//EN
BEGIN:VEVENT
UID:320d6a2f-ed03-496c-9e73-ffec8305ac0c
DTSTART;TZID=America/Chicago:20210118T093000
DTEND;TZID=America/Chicago:20210118T110000
DTSTAMP:20210112T141438Z
SUMMARY:MLK Day Morning Stick and Puck
DESCRIPTION:
LOCATION:
URL:
END:VEVENT
END:VCALENDAR