BEGIN:VCALENDAR
VERSION:2.0
PRODID:-//DP Pro Event Calendar//3.0.5//EN
BEGIN:VEVENT
UID:0179706f-82fa-431d-9390-45263a26c9f1
DTSTART;TZID=America/Chicago:20210113T194500
DTEND;TZID=America/Chicago:20210113T231500
DTSTAMP:20210111T165326Z
SUMMARY:Hockey Finder Winter 2021 Wednesday
DESCRIPTION:
LOCATION:
URL:
END:VEVENT
END:VCALENDAR