BEGIN:VCALENDAR
VERSION:2.0
PRODID:-//DP Pro Event Calendar//3.0.5//EN
BEGIN:VEVENT
UID:9d9134c9-a759-4c90-a08e-b6a7740f3a6f
DTSTART;TZID=America/Chicago:20210101T180000
DTEND;TZID=America/Chicago:20210101T193000
DTSTAMP:20201224T134954Z
SUMMARY:Bridget Burke Party
DESCRIPTION:Basic Party - Certificate from St. Roberts Raffle\r \n Party Room 5-6pm
LOCATION:
URL:
END:VEVENT
END:VCALENDAR