BEGIN:VCALENDAR
VERSION:2.0
PRODID:-//DP Pro Event Calendar//3.0.5//EN
BEGIN:VEVENT
UID:683bc623-188e-41f0-a7d6-f1f9f9c42fd0
DTSTART;TZID=America/Chicago:20201230T184500
DTEND;TZID=America/Chicago:20201230T204500
DTSTAMP:20201218T191054Z
SUMMARY:Holiday Public Skating
DESCRIPTION:
LOCATION:
URL:
END:VEVENT
END:VCALENDAR