BEGIN:VCALENDAR
VERSION:2.0
PRODID:-//DP Pro Event Calendar//3.0.5//EN
BEGIN:VEVENT
UID:3f4e478d-0ded-4203-9a74-ecc722623842
DTSTART;TZID=America/Chicago:20201229T201500
DTEND;TZID=America/Chicago:20201229T211500
DTSTAMP:20201228T174305Z
SUMMARY:Conn Hockey
DESCRIPTION:
LOCATION:
URL:
END:VEVENT
END:VCALENDAR