BEGIN:VCALENDAR
VERSION:2.0
PRODID:-//DP Pro Event Calendar//3.0.5//EN
BEGIN:VEVENT
UID:974440b5-34ad-420a-bca3-9bb54b3a9b14
DTSTART;TZID=America/Chicago:20201228T180000
DTEND;TZID=America/Chicago:20201228T200000
DTSTAMP:20201218T191004Z
SUMMARY:Holiday Public Skating
DESCRIPTION:
LOCATION:
URL:
END:VEVENT
END:VCALENDAR