BEGIN:VCALENDAR
VERSION:2.0
PRODID:-//DP Pro Event Calendar//3.0.5//EN
BEGIN:VEVENT
UID:90e67074-dce2-4987-826e-9a9308978424
DTSTART;TZID=America/Chicago:20201226T170000
DTEND;TZID=America/Chicago:20201226T200000
DTSTAMP:20201218T190812Z
SUMMARY:Holiday Public Skating
DESCRIPTION:
LOCATION:
URL:
END:VEVENT
END:VCALENDAR