BEGIN:VCALENDAR
VERSION:2.0
PRODID:-//DP Pro Event Calendar//3.0.5//EN
BEGIN:VEVENT
UID:9f3b820f-a355-4e3a-b714-f6dffb6fd34c
DTSTART;TZID=America/Chicago:20201226T151500
DTEND;TZID=America/Chicago:20201226T164500
DTSTAMP:20201218T190854Z
SUMMARY:Holiday Stick and Puck
DESCRIPTION:
LOCATION:
URL:
END:VEVENT
END:VCALENDAR