BEGIN:VCALENDAR
VERSION:2.0
PRODID:-//DP Pro Event Calendar//3.0.5//EN
BEGIN:VEVENT
UID:3f480e97-cfd9-40a1-8d32-5371e113c595
DTSTART;TZID=America/Chicago:20201222T201500
DTEND;TZID=America/Chicago:20201222T211500
DTSTAMP:20201221T115349Z
SUMMARY:Lori Quinn Private Ice Skating
DESCRIPTION:
LOCATION:
URL:
END:VEVENT
END:VCALENDAR