BEGIN:VCALENDAR
VERSION:2.0
PRODID:-//DP Pro Event Calendar//3.0.5//EN
BEGIN:VEVENT
UID:d9f57f92-3d2f-44fd-85a9-c2f1dab09977
DTSTART;TZID=America/Chicago:20200208T124500
DTEND;TZID=America/Chicago:20200208T141500
DTSTAMP:20200106T114107Z
SUMMARY:Adriana Rash Birthday
DESCRIPTION:Basic Party\r \n Party Room 2:15-3:15p
LOCATION:
URL:
END:VEVENT
END:VCALENDAR