BEGIN:VCALENDAR
VERSION:2.0
PRODID:-//DP Pro Event Calendar//3.0.5//EN
BEGIN:VEVENT
UID:deba5198-7bd2-4d77-9e41-fc0e466557e5
DTSTART;TZID=America/Chicago:20200201T124500
DTEND;TZID=America/Chicago:20200201T141500
DTSTAMP:20200106T160622Z
SUMMARY:Isla Robinson Birthday
DESCRIPTION:Basic Party\r \n Party Room 2:15-3:15p
LOCATION:
URL:
END:VEVENT
END:VCALENDAR