BEGIN:VCALENDAR
VERSION:2.0
PRODID:-//DP Pro Event Calendar//3.0.5//EN
BEGIN:VEVENT
UID:4af63b61-2612-4247-b442-f3379d3def2c
DTSTART;TZID=America/Chicago:20200131T180000
DTEND;TZID=America/Chicago:20200131T193000
DTSTAMP:20200101T132332Z
SUMMARY:Charlotte Boehm Birthday
DESCRIPTION:Basic Party\r \n Party Room 7-8:30p
LOCATION:
URL:
END:VEVENT
END:VCALENDAR