BEGIN:VCALENDAR
VERSION:2.0
PRODID:-//DP Pro Event Calendar//3.0.5//EN
BEGIN:VEVENT
UID:c54e90ec-0be7-4521-9532-e9be103b3d8e
DTSTART;TZID=America/Chicago:20200124T180000
DTEND;TZID=America/Chicago:20200124T193000
DTSTAMP:20191230T130825Z
SUMMARY:Monroe Meyer Austism Social Club Outing
DESCRIPTION:Basic Party\r \n Party Room 6-7:30p
LOCATION:
URL:
END:VEVENT
END:VCALENDAR