BEGIN:VCALENDAR
VERSION:2.0
PRODID:-//DP Pro Event Calendar//3.0.5//EN
BEGIN:VEVENT
UID:78366df6-00c0-42aa-b72a-150cc40c823f
DTSTART;TZID=America/Chicago:20200118T124500
DTEND;TZID=America/Chicago:20200118T141500
DTSTAMP:20200106T111646Z
SUMMARY:Elise Paprochi Birthday
DESCRIPTION:Basic Party\r \n Party Room 2:15-3:15p
LOCATION:
URL:
END:VEVENT
END:VCALENDAR