BEGIN:VCALENDAR
VERSION:2.0
PRODID:-//DP Pro Event Calendar//3.0.5//EN
BEGIN:VEVENT
UID:d9330491-0657-4d52-9f27-cf2bcfe33d80
DTSTART;TZID=America/Chicago:20200112T140000
DTEND;TZID=America/Chicago:20200112T153000
DTSTAMP:20200106T114214Z
SUMMARY:Raquel Jones Birthday
DESCRIPTION:Basic Party\r \n Party Room 3:30-4:30p
LOCATION:
URL:
END:VEVENT
END:VCALENDAR