BEGIN:VCALENDAR
VERSION:2.0
PRODID:-//DP Pro Event Calendar//3.0.5//EN
BEGIN:VEVENT
UID:468d46fa-932c-4f4d-ab38-873e700a7820
DTSTART;TZID=America/Chicago:20200107T201500
DTEND;TZID=America/Chicago:20200107T223000
DTSTAMP:20200107T113427Z
SUMMARY:Hockey Finder Tuesday Winter 2020
DESCRIPTION:
LOCATION:
URL:
END:VEVENT
END:VCALENDAR