BEGIN:VCALENDAR
VERSION:2.0
PRODID:-//DP Pro Event Calendar//3.0.5//EN
BEGIN:VEVENT
UID:4a5979a6-134d-46c8-b3e5-97de235667de
DTSTART;TZID=America/Chicago:20200105T140000
DTEND;TZID=America/Chicago:20200105T153000
DTSTAMP:20191227T163024Z
SUMMARY:Bella Holtz Birthday
DESCRIPTION:Basic Party\r \n Party Room 3:30-4:30p
LOCATION:
URL:
END:VEVENT
END:VCALENDAR