BEGIN:VCALENDAR
VERSION:2.0
PRODID:-//DP Pro Event Calendar//3.0.5//EN
BEGIN:VEVENT
UID:1262bb8f-e76e-4bf0-b0ee-d03ca5d3257b
DTSTART;TZID=America/Chicago:20200104T124500
DTEND;TZID=America/Chicago:20200104T141500
DTSTAMP:20191231T132145Z
SUMMARY:Rivers Derrison Birthday
DESCRIPTION:Basic Party\r \n Party Room 11:30-12:45p
LOCATION:
URL:
END:VEVENT
END:VCALENDAR