BEGIN:VCALENDAR
VERSION:2.0
PRODID:-//DP Pro Event Calendar//3.0.5//EN
BEGIN:VEVENT
UID:63cdfb46-6ac4-4e30-b6b4-da6dab18510b
DTSTART;TZID=America/Chicago:20191130T101500
DTEND;TZID=America/Chicago:20191130T111500
DTSTAMP:20191029T132422Z
SUMMARY:OHC - Millard South v. Papillion
DESCRIPTION:
LOCATION:
URL:
END:VEVENT
END:VCALENDAR