BEGIN:VCALENDAR
VERSION:2.0
PRODID:-//DP Pro Event Calendar//3.0.5//EN
BEGIN:VEVENT
UID:81b59da8-60c3-4cbf-b1e1-ce49a203531d
DTSTART;TZID=America/Chicago:20191123T124500
DTEND;TZID=America/Chicago:20191123T141500
DTSTAMP:20191023T143415Z
SUMMARY:Jackson Grissin Birthday
DESCRIPTION:Basic Party\r \n Party Room - 2:15-3:15p
LOCATION:
URL:
END:VEVENT
END:VCALENDAR