BEGIN:VCALENDAR
VERSION:2.0
PRODID:-//DP Pro Event Calendar//3.0.5//EN
BEGIN:VEVENT
UID:77ac3aa7-0b8f-4149-a825-2df7b7cbe15a
DTSTART;TZID=America/Chicago:20191112T183000
DTEND;TZID=America/Chicago:20191112T203000
DTSTAMP:20191021T135056Z
SUMMARY:Ski Patrol Meeting - Party Room - Ray
DESCRIPTION:
LOCATION:
URL:
END:VEVENT
END:VCALENDAR