BEGIN:VCALENDAR
VERSION:2.0
PRODID:-//DP Pro Event Calendar//3.0.5//EN
BEGIN:VEVENT
UID:d7f97709-ac2e-4154-b3d4-5c3e958aa151
DTSTART;TZID=America/Chicago:20191109T143000
DTEND;TZID=America/Chicago:20191109T153000
DTSTAMP:20191022T121507Z
SUMMARY:OHC House Practice
DESCRIPTION:
LOCATION:
URL:
END:VEVENT
END:VCALENDAR