BEGIN:VCALENDAR
VERSION:2.0
PRODID:-//DP Pro Event Calendar//3.0.5//EN
BEGIN:VEVENT
UID:15107576-3821-4cfb-b374-80c28a728ec8
DTSTART;TZID=America/Chicago:20191103T140000
DTEND;TZID=America/Chicago:20191103T153000
DTSTAMP:20191029T132208Z
SUMMARY:Adrian Romero Birthday
DESCRIPTION:Basic Party\r \n Party Room 3:30p-4:30p
LOCATION:
URL:
END:VEVENT
END:VCALENDAR