BEGIN:VCALENDAR
VERSION:2.0
PRODID:-//DP Pro Event Calendar//3.0.5//EN
BEGIN:VEVENT
UID:9aa50366-a478-44fe-9e4c-9a4f024177e2
DTSTART;TZID=America/Chicago:20191006T113000
DTEND;TZID=America/Chicago:20191006T123000
DTSTAMP:20190930T130247Z
SUMMARY:OHC Girls u10 / u14
DESCRIPTION:
LOCATION:
URL:
END:VEVENT
END:VCALENDAR