BEGIN:VCALENDAR
VERSION:2.0
PRODID:-//DP Pro Event Calendar//3.0.5//EN
BEGIN:VEVENT
UID:16bbc6e7-f395-4535-95b1-b684c5d46517
DTSTART;TZID=America/Chicago:20190912T190000
DTEND;TZID=America/Chicago:20190912T203000
DTSTAMP:20190807T155922Z
SUMMARY:Midland Women's Hockey
DESCRIPTION:
LOCATION:
URL:
END:VEVENT
END:VCALENDAR