BEGIN:VCALENDAR
VERSION:2.0
PRODID:-//DP Pro Event Calendar//3.0.5//EN
BEGIN:VEVENT
UID:f88906ab-85cb-41f0-877f-2eb321c53c8a
DTSTART;TZID=America/Chicago:20190709T201500
DTEND;TZID=America/Chicago:20190709T223000
DTSTAMP:20190603T165246Z
SUMMARY:Hockey Finder Summer 2019 Tuesday Night
DESCRIPTION:
LOCATION:
URL:
END:VEVENT
END:VCALENDAR