BEGIN:VCALENDAR
VERSION:2.0
PRODID:-//DP Pro Event Calendar//3.0.5//EN
BEGIN:VEVENT
UID:02497651-0b36-43b2-af5d-3131455055bb
DTSTART;TZID=America/Chicago:20190323T214500
DTEND;TZID=America/Chicago:20190323T224500
DTSTAMP:20190123T185901Z
SUMMARY:Erin Go-Bardownski Adult Tournament
DESCRIPTION:
LOCATION:
URL:
END:VEVENT
END:VCALENDAR