BEGIN:VCALENDAR
VERSION:2.0
PRODID:-//DP Pro Event Calendar//3.0.5//EN
BEGIN:VEVENT
UID:b87bc2c3-a174-4463-b396-b3c7555cf155
DTSTART;TZID=America/Chicago:20181006T080000
DTEND;TZID=America/Chicago:20181006T090000
DTSTAMP:20180801T094956Z
SUMMARY:OHC Mite Select
DESCRIPTION:
LOCATION:
URL:
END:VEVENT
END:VCALENDAR