BEGIN:VCALENDAR
VERSION:2.0
PRODID:-//DP Pro Event Calendar//3.0.5//EN
BEGIN:VEVENT
UID:b1db51fc-91a2-4124-8dc1-92d57163c43b
DTSTART;TZID=America/Chicago:20181002T180000
DTEND;TZID=America/Chicago:20181002T200000
DTSTAMP:20180801T094830Z
SUMMARY:OHC Mite Weekday
DESCRIPTION:
LOCATION:
URL:
END:VEVENT
END:VCALENDAR