BEGIN:VCALENDAR
VERSION:2.0
PRODID:-//DP Pro Event Calendar//3.0.5//EN
BEGIN:VEVENT
UID:c1ddcaed-3ba9-4654-ba06-517afcf1f85c
DTSTART;TZID=America/Chicago:20180927T201500
DTEND;TZID=America/Chicago:20180927T211500
DTSTAMP:20180801T151636Z
SUMMARY:Masters Hockey
DESCRIPTION:
LOCATION:
URL:
END:VEVENT
END:VCALENDAR