BEGIN:VCALENDAR
VERSION:2.0
PRODID:-//DP Pro Event Calendar//3.0.5//EN
BEGIN:VEVENT
UID:71e32b2f-4dc6-4ecd-a8a0-1b6acb4b0aa6
DTSTART;TZID=America/Chicago:20180811T190000
DTEND;TZID=America/Chicago:20180811T210000
DTSTAMP:20180531T111520Z
SUMMARY:Memorial Game - Tentative
DESCRIPTION:
LOCATION:
URL:
END:VEVENT
END:VCALENDAR