BEGIN:VCALENDAR
VERSION:2.0
PRODID:-//DP Pro Event Calendar//3.0.5//EN
BEGIN:VEVENT
UID:6e7e84eb-57ca-4167-87ac-f076ec101528
DTSTART;TZID=America/Chicago:20180514T213000
DTEND;TZID=America/Chicago:20180514T223000
DTSTAMP:20180426T171544Z
SUMMARY:Omaha Snipers Hockey
DESCRIPTION:
LOCATION:
URL:
END:VEVENT
END:VCALENDAR