BEGIN:VCALENDAR
VERSION:2.0
PRODID:-//DP Pro Event Calendar//3.0.5//EN
BEGIN:VEVENT
UID:5c3ed087-6608-4645-b455-ad7d60837f0c
DTSTART;TZID=America/Chicago:20180427T170000
DTEND;TZID=America/Chicago:20180427T220000
DTSTAMP:20180326T172635Z
SUMMARY:Good Life Tournament
DESCRIPTION:
LOCATION:
URL:
END:VEVENT
END:VCALENDAR