BEGIN:VCALENDAR
VERSION:2.0
PRODID:-//DP Pro Event Calendar//3.0.5//EN
BEGIN:VEVENT
UID:c78cad60-9a3a-4604-a31d-83687a6f62e7
DTSTART;TZID=America/Chicago:20180402T180000
DTEND;TZID=America/Chicago:20180402T200000
DTSTAMP:20180220T194842Z
SUMMARY:OHC Spring IP
DESCRIPTION:
LOCATION:
URL:
END:VEVENT
END:VCALENDAR