BEGIN:VCALENDAR
VERSION:2.0
PRODID:-//DP Pro Event Calendar//3.0.5//EN
BEGIN:VEVENT
UID:74383464-6394-4236-aebc-34f28aba9271
DTSTART;TZID=America/Chicago:20170910T190000
DTEND;TZID=America/Chicago:20170910T200000
DTSTAMP:20170828T145927Z
SUMMARY:Heartland Hockey Summer Camp + Party
DESCRIPTION:
LOCATION:
URL:
END:VEVENT
END:VCALENDAR